BEGIN:VCALENDAR
VERSION:2.0
PRODID:-//TYPO3/NONSGML News system (news)//EN
BEGIN:VEVENT
UID:news-105826@physik.uni-graz.at
DTSTAMP:20241223T102345Z
DTSTART:20230904T060000Z
DTEND:20230908T160000Z
SUMMARY:Symposium in Oberwölz &quot;Simulation von Quantenfeldtheorien&quot;

DESCRIPTION:Nach einer Pandemie-bedingten Pause führt das Institut für Physik das traditionsreiche Oberwölz-Symposium zur Teilchenphysik in der ersten Septemberwoche (4.-8.9.2023) fort. Dieses fand zuvor seit 1998 bereits acht Mal statt.
END:VEVENT
END:VCALENDAR
