BEGIN:VCALENDAR
VERSION:2.0
PRODID:-//TYPO3/NONSGML News system (news)//EN
BEGIN:VEVENT
UID:news-86886@physik.uni-graz.at
DTSTAMP:20241223T102345Z
DTSTART:20220520T110000Z
DTEND:20220520T110000Z
SUMMARY:Symposium &quot;Schule &amp; Weltraum&quot;

DESCRIPTION:Wissensvermittlung für und mit kommender Forschergenerationen 
END:VEVENT
END:VCALENDAR
