BEGIN:VCALENDAR
VERSION:2.0
PRODID:-//TYPO3/NONSGML News system (news)//EN
BEGIN:VEVENT
UID:news-69142@physik.uni-graz.at
DTSTAMP:20201126T145639Z
DTSTART:20201201T151500Z
DTEND:20201201T151500Z
SUMMARY:TU-KFU Graz Physics Colloquium

DESCRIPTION:Prof. G. Kirchengast: &quot;Advancing fundamentals of climate change physics: new insights on global warming and low carbon society implications&quot;
END:VEVENT
END:VCALENDAR
