BEGIN:VCALENDAR
VERSION:2.0
PRODID:-//TYPO3/NONSGML News system (news)//EN
BEGIN:VEVENT
UID:news-68537@physik.uni-graz.at
DTSTAMP:20201109T100751Z
DTSTART:20201110T151500Z
DTEND:20201110T151500Z
SUMMARY:TU-KFU Graz Physics Colloquium

DESCRIPTION:Prof. Cornelia Denz from the University of Münster in Germany will talk about the following fascinating topic ...


END:VEVENT
END:VCALENDAR
