BEGIN:VCALENDAR
VERSION:2.0
PRODID:-//TYPO3/NONSGML News system (news)//EN
BEGIN:VEVENT
UID:news-104016@physik.uni-graz.at
DTSTAMP:20241223T102345Z
DTSTART:20230620T140000Z
DTEND:20230620T140000Z
SUMMARY:uni.talk: Aktionismus und Wissenschaft 

DESCRIPTION:Rektor Peter Riedler, Claudia Haagen-Schützenhöfer, Gabriele Schmölzer und Karl Steininger laden zur Diskussion ein.
END:VEVENT
END:VCALENDAR
