BEGIN:VCALENDAR
VERSION:2.0
PRODID:-//TYPO3/NONSGML News system (news)//EN
BEGIN:VEVENT
UID:news-101165@physik.uni-graz.at
DTSTAMP:20241223T102345Z
DTSTART:20230418T160000Z
DTEND:20230418T180000Z
SUMMARY:VITA ACTIVA Vortragsreihe

DESCRIPTION:Univ.-Prof. Dr. Peter Banzer: &quot;Farben, Schatten, Phänomene – wie Licht unser Leben bestimmt&quot;
END:VEVENT
END:VCALENDAR
