BEGIN:VCALENDAR
VERSION:2.0
PRODID:-//TYPO3/NONSGML News system (news)//EN
BEGIN:VEVENT
UID:news-100874@physik.uni-graz.at
DTSTAMP:20241223T102345Z
DTSTART:20230321T170000Z
DTEND:20230321T190000Z
SUMMARY:VITA ACTIVA Vortragsreihe

DESCRIPTION:Assoz.Prof.Dr. Ulrich Foelsche: &quot;Wie der Klimawandel unser Leben verändert&quot;
END:VEVENT
END:VCALENDAR
