BEGIN:VCALENDAR
VERSION:2.0
PRODID:-//TYPO3/NONSGML News system (news)//EN
BEGIN:VEVENT
UID:news-100622@physik.uni-graz.at
DTSTAMP:20241223T102345Z
DTSTART:20230307T170000Z
DTEND:20230307T190000Z
SUMMARY:VITA ACTIVA Vortragsreihe

DESCRIPTION:Ao.Univ.-Prof.i.R. Dr. Leopold Mathelitsch: &quot;Physikalische Melange – Wissenschaft im Kaffeehaus&quot;
END:VEVENT
END:VCALENDAR
