BEGIN:VCALENDAR
VERSION:2.0
PRODID:-//TYPO3/NONSGML News system (news)//EN
BEGIN:VEVENT
UID:news-91650@physik.uni-graz.at
DTSTAMP:20241223T102345Z
DTSTART:20221005T130000Z
DTEND:20221005T130000Z
SUMMARY:Vortrag

DESCRIPTION:Dr. Sesa Prelovsek: &quot;Doubly charm tetraquark and charmonium-like resonances&quot;
END:VEVENT
END:VCALENDAR
