BEGIN:VCALENDAR
VERSION:2.0
PRODID:-//TYPO3/NONSGML News system (news)//EN
BEGIN:VEVENT
UID:news-110494@physik.uni-graz.at
DTSTAMP:20241223T102345Z
DTSTART:20240131T180000Z
DTEND:20240131T180000Z
SUMMARY:Vortrag im UniGraz@Museum

DESCRIPTION:Franz Aussenegg: &quot;60 Jahre Laserforschung an der Uni Graz&quot;
END:VEVENT
END:VCALENDAR
