BEGIN:VCALENDAR
VERSION:2.0
PRODID:-//TYPO3/NONSGML News system (news)//EN
BEGIN:VEVENT
UID:news-91535@physik.uni-graz.at
DTSTAMP:20241223T102345Z
DTSTART:20220930T080000Z
DTEND:20220930T080000Z
SUMMARY:Symposium &quot;Relativistic Hadrons&quot;

DESCRIPTION:Dr. Elmar Biernat: &quot;Relativistic Point-Form Approach to Hadrons&quot;
END:VEVENT
END:VCALENDAR
