BEGIN:VCALENDAR
VERSION:2.0
PRODID:-//TYPO3/NONSGML News system (news)//EN
BEGIN:VEVENT
UID:news-91534@physik.uni-graz.at
DTSTAMP:20241223T102345Z
DTSTART:20220930T090000Z
DTEND:20220930T090000Z
SUMMARY:Symposium &quot;Relativistic Hadrons&quot;

DESCRIPTION:Dr. Kornelija Passek-Kumericki: &quot;Revealing Hadron Structures Through Hard Exclusive Processes&quot;
END:VEVENT
END:VCALENDAR
