BEGIN:VCALENDAR
VERSION:2.0
PRODID:-//TYPO3/NONSGML News system (news)//EN
BEGIN:VEVENT
UID:news-67826@physik.uni-graz.at
DTSTAMP:20201015T100752Z
DTSTART:20201021T150000Z
DTEND:20201021T163000Z
SUMMARY:Vortragsserie &quot;Facetten der Physik&quot;

DESCRIPTION:Univ.-Prof.Dr. U. Hohenester: &quot;Quantencomputer - die zweite Quantenrevolution&quot;
END:VEVENT
END:VCALENDAR
