BEGIN:VCALENDAR
VERSION:2.0
PRODID:-//TYPO3/NONSGML News system (news)//EN
BEGIN:VEVENT
UID:news-124369@physik.uni-graz.at
DTSTAMP:20250324T101605Z
DTSTART:20250326T140000Z
DTEND:20250326T140000Z
SUMMARY:Vortragsankündigung - Luca Schio (Trieste)

DESCRIPTION:EXPLORING ORGANIC INTERFACES AT ALOISA BEAMLINE: INSIGHTS FROM SYNCHROTRON X-RAYS SPECTROSCOPIES
END:VEVENT
END:VCALENDAR
