BEGIN:VCALENDAR
VERSION:2.0
PRODID:-//TYPO3/NONSGML News system (news)//EN
BEGIN:VEVENT
UID:news-113465@physik.uni-graz.at
DTSTAMP:20241223T102345Z
DTSTART:20240516T150000Z
DTEND:20240516T150000Z
SUMMARY:Vortragsreihe &quot;Neues Lehramt Physik&quot; 

DESCRIPTION:Prof. Dr. Rainer Müller: &quot;Was man in der Schule wissen muss&quot;
END:VEVENT
END:VCALENDAR
