BEGIN:VCALENDAR
VERSION:2.0
PRODID:-//TYPO3/NONSGML News system (news)//EN
BEGIN:VEVENT
UID:news-113466@physik.uni-graz.at
DTSTAMP:20241223T102345Z
DTSTART:20240425T150000Z
DTEND:20240425T150000Z
SUMMARY:Vortragsreihe &quot;Neues Lehramt Physik&quot;

DESCRIPTION:Prof. Dr. Christoph Kulgemeyer: &quot;Was muss eine gute Physiklehrkraft eigentlich können?&quot;
END:VEVENT
END:VCALENDAR
