BEGIN:VCALENDAR
VERSION:2.0
PRODID:-//TYPO3/NONSGML News system (news)//EN
BEGIN:VEVENT
UID:news-65698@physik.uni-graz.at
DTSTAMP:20200626T124300Z
DTSTART:20200610T060000Z
DTEND:20200710T215500Z
SUMMARY:Wer willst du morgen sein?

DESCRIPTION:Der Tag der offenen Tür 2020 findet heuer virtuell statt!
END:VEVENT
END:VCALENDAR
